BEGIN:VCALENDAR
VERSION:2.0
PRODID:Events Booking
BEGIN:VEVENT
UID:69ea36b25705e
SUMMARY:Americas Infrastructure Dialogue 2019
DESCRIPTION:The Americas Infrastructure&nbsp\;Dialogue 2019&nbsp\;will take
  place on the 31th of January in New York City at the&nbsp\;Landmark Hotel
 \, the Benjamin\,&nbsp\;bringing together the decision makers in infrastru
 cture in the region.&nbsp\;  International leaders in infrastructure have 
 the opportunity to get together in a series of interactive sessions and 1:
 1 meetings in our exclusive Dialogue-Club.&nbsp\;  Senior industry experts
 \, including investors\, lenders\, developers\, owners and policy makers w
 ill be discussing the latest trends in infrastructure in the US\, Canada\,
  Latin America and abroad.
LOCATION:125 E 50th St\, New York\, NY 10022\, USA
DTSTART:20190131T090000Z
DTEND:20190131T000000Z
DTSTAMP:20260423T101146Z
ORGANIZER;CN=Dialogue Capital:MAILTO:finance@dialoguecapital.com
GEO:40.756612;-73.971905
X-APPLE-STRUCTURED-LOCATION;VALUE=URI;X-ADDRESS=125 E 50th St\, New York\, 
 NY 10022\, USA;X-APPLE-RADIUS=72;X-TITLE=The Benjamin Hotel:40.756612;-73.
 971905
END:VEVENT
END:VCALENDAR