BEGIN:VCALENDAR
VERSION:2.0
PRODID:Events Booking
BEGIN:VEVENT
UID:69ea21a6723ca
SUMMARY:German Real Estate Dialogue - #GRED2021
DESCRIPTION:Der German Real Estate Dialogue (GRED) 2021 wird am 17. Septemb
 er in Frankfurt stattfinden und bringt die Elite der Entscheidungstraeger 
 der Immobilienbranche in Deutschland und aus dem Ausland zusammen.&nbsp\;
 
 Das Format sowie das Programm sind informell und clubby und auf individu
 elle Beduerfnisse der Investoren zugeschnitten.
 Das Programm bietet viel
 e Moeglichkeiten fuer 1:1 Meetings\, Kaminfeuer-Treffen und weitere flexib
 le Netwoerking-Optionen mit den anderen Senior-Vertretern der Branche: Inv
 estoren\, Finanzierer und Projektentwicklern.&nbsp\;
 Seien Sie dabei und
  bringen Sie sich in die Debatten zum Thema deutsche Immobilien jetzt ein!
 &nbsp\;&nbsp\;
 Wir freuen uns auf Sie in Frankfurt.
 Mit freundlichen G
 ruessen
 Das Dialogue Capital Team
 &nbsp\;&nbsp\;
 -------------------
 --
 &nbsp\;
 The German Real Estate Dialogue (GRED) 2021 will take place
  on the 17th of September in Frankfurt and brings together the senior elit
 e of the German and international real estate industry.
 We provide a for
 um for international decision makers in real estate to get together in a s
 eries of interactive sessions\, 1:1 meetings and fire-side chats. Senior i
 ndustry experts\, including investors\, lenders\, developers and policy ma
 kers will be discussing the latest local and global trends in real estate.
LOCATION:Kennedyallee 70\, 60596 Frankfurt am Main\, Germany
DTSTART:20210916T230000Z
DTEND:20210916T230000Z
DTSTAMP:20260423T084158Z
ORGANIZER;CN=Dialogue Capital:MAILTO:finance@dialoguecapital.com
GEO:50.09723;8.66955
X-APPLE-STRUCTURED-LOCATION;VALUE=URI;X-ADDRESS=Kennedyallee 70\, 60596 Fra
 nkfurt am Main\, Germany;X-APPLE-RADIUS=72;X-TITLE=Villa Kennedy\, Rocco F
 orte Hotel:50.09723;8.66955
END:VEVENT
END:VCALENDAR