BEGIN:VCALENDAR
VERSION:2.0
PRODID:Events Booking
BEGIN:VEVENT
UID:69ea37844a481
SUMMARY:Global Infrastructure & Energy Dialogue Summit #GID23 
DESCRIPTION:Save the date: The Event for senior decision makers in real ass
 ets: Global Infrastructure &amp\; Energy Dialogue 2023 will take place on 
 15th - 16th June in Frankfurt\, Germany
 &nbsp\;For more information abou
 t the event click on the title at the top to view more details.
 
 &nbsp
 \;
 The Global Infrastructure &amp\; Energy Summit Dialogue 2023 will tak
 e place on 15th - 16th June in Frankfurt and brings together even more glo
 bal senior movers and shakers of the infrastructure and energy industry\,&
 nbsp\;covering western regions as well as growth markets.
 GID 2023 provi
 des a forum for global decision makers in infrastructure to get together i
 n a series of interactive sessions\, 1:1 meetings and fire-side chats. Sen
 ior investors\, asset managers\, lenders\, developers and policy makers wi
 ll be discussing the latest global trends in infrastructure and energy.&nb
 sp\;As LNG and methanol investments are set to surge in the upcoming years
 \, they will also be key topics at this year’s edition.
 Join #GID23 no
 w to find out more and to establish new and meaningful business contacts a
 nd find out where future opportunities are. Furthermore\, debt- and equity
  infrastructure will be discussed and many other themes.&nbsp\;
 &nbsp\;
 
 For email enquiries: info@dialoguecapital.com&nbsp\;
 
 &nbsp\;
 
LOCATION:Opernpl. 16\, 60313 Frankfurt am Main\, Germany
DTSTART:20230614T230000Z
DTEND:20230615T230000Z
DTSTAMP:20260423T101516Z
ORGANIZER;CN=Dialogue Capital:MAILTO:finance@dialoguecapital.com
GEO:0;8.675875
X-APPLE-STRUCTURED-LOCATION;VALUE=URI;X-ADDRESS=Opernpl. 16\, 60313 Frankfu
 rt am Main\, Germany;X-APPLE-RADIUS=72;X-TITLE=Sofitel Opera\, Frankfurt:0
 ;8.675875
END:VEVENT
END:VCALENDAR