BEGIN:VCALENDAR
VERSION:2.0
PRODID:Events Booking
BEGIN:VEVENT
UID:69ea367cccd64
SUMMARY:Global Infrastructure Dialogue 2018
DESCRIPTION:The 4th international Infrastructure Dialogue 2018 will take pl
 ace on the 19th - 20st June in Frankfurt at Villa Kennedy\, Rocco Forte Ho
 tel and will bring together more industry leaders than ever.
 Internation
 al decision makers in infrastructure have the opportunity to get together 
 in a series of interactive sessions and 1:1 meetings in our exclusive Dial
 ogue-Club.
 Senior industry experts\, including investors\, lenders\, dev
 elopers and policy makers will be discussing the latest global trends in i
 nfrastructure.
LOCATION:Kennedyallee 70\, 60596 Frankfurt am Main\, Germany
DTSTART:20180618T230000Z
DTEND:20180619T230000Z
DTSTAMP:20260423T101052Z
ORGANIZER;CN=Dialogue Capital:MAILTO:finance@dialoguecapital.com
GEO:50.09723;8.66955
X-APPLE-STRUCTURED-LOCATION;VALUE=URI;X-ADDRESS=Kennedyallee 70\, 60596 Fra
 nkfurt am Main\, Germany;X-APPLE-RADIUS=72;X-TITLE=Villa Kennedy\, Rocco F
 orte Hotel:50.09723;8.66955
END:VEVENT
END:VCALENDAR