BEGIN:VCALENDAR
VERSION:2.0
PRODID:Events Booking
BEGIN:VEVENT
UID:69ea2175332ca
SUMMARY:Global Infrastructure Dialogue - #GID21
DESCRIPTION:The Global Infrastructure Dialogue 2021 will take place on 13th
  - 14th September in Frankfurt and brings together the movers and shakers 
 of the infrastructure industry.&nbsp\;
 GID 2021 provides a forum for glo
 bal decision makers in infrastructure to get together in a series of inter
 active sessions\, 1:1 meetings and fire-side chats. Senior investors\, ass
 et managers\, lenders\, developers and policy makers will be discussing th
 e latest global trends in infrastructure.
 Among the topics covered will 
 be the latest investment strategies in debt- and equity\, investment oppor
 tunities in energy\, Tech &amp\; Telco and transport infrastructure as wel
 l as insights from developers that secured funding for mature- and emergin
 g market projects.
 How deep has been the impact of C-19 on the asset cla
 ss? What sectors have managed to bounce back quickly? Where are new invest
 ment opportunities worth considering? How sustainable are certain investme
 nts? What risk/return profiles are realistic?
 Join us now to establish n
 ew and meaningful business contacts and find out where future opportunitie
 s are.&nbsp\;
 Email us: info@dialoguecapital.com&nbsp\;
LOCATION:Kennedyallee 70\, 60596 Frankfurt am Main\, Germany
DTSTART:20210912T230000Z
DTEND:20210913T230000Z
DTSTAMP:20260423T084109Z
ORGANIZER;CN=Dialogue Capital:MAILTO:finance@dialoguecapital.com
GEO:50.09723;8.66955
X-APPLE-STRUCTURED-LOCATION;VALUE=URI;X-ADDRESS=Kennedyallee 70\, 60596 Fra
 nkfurt am Main\, Germany;X-APPLE-RADIUS=72;X-TITLE=Villa Kennedy\, Rocco F
 orte Hotel:50.09723;8.66955
END:VEVENT
END:VCALENDAR