BEGIN:VCALENDAR
VERSION:2.0
PRODID:Events Booking
BEGIN:VEVENT
UID:69ea216d0c1a5
SUMMARY:Global Infrastructure & Energy Dialogue - #GID22
DESCRIPTION:The Global Infrastructure Dialogue 2022 will take place on 14th
  - 15th September in Frankfurt and brings together the senior movers and s
 hakers of the infrastructure industry.&nbsp\;
 GID 2022 provides a forum 
 for global decision makers in infrastructure to get together in a series o
 f interactive sessions\, 1:1 meetings and fire-side chats. Senior investor
 s\, asset managers\, lenders\, developers and policy makers will be discus
 sing the latest global trends in infrastructure.&nbsp\;Among the topics co
 vered will be the latest investment strategies in debt- and equity\, inves
 tment opportunities in energy\, the energy transition\, hydrogen\, Tech &a
 mp\; Telco and transport infrastructure\, ESG as well as insights from dev
 elopers that secured funding for mature- and emerging markets.
 &nbsp\;

  Gershon Cohen\, Global Head of Infrastructure Funds\, abrdn\, London\, UK
 :
 “Infrastructure Dialogue brings together industry leaders\, opinion 
 formers and practitioners in an innovative format in which the delegates a
 ctively engage with the program participants in a productive environment.
 ”
 &nbsp\;
 Ankit Metha\, former Director and employee at Future Fund\
 , Australia (now with H.R.L. Morrison\, Australia):&nbsp\;
 \"The Dialogu
 e Capital event was a useful way to discuss current themes in infrastructu
 re investing with a broad range of market participants. The Boardroom form
 at allowed a thoughtful and candid discussion with all participants.\"&nbs
 p\;
 &nbsp\;
 Join #GID22 now to establish new and meaningful business c
 ontacts and find out where future opportunities are. Furthermore\, debt- a
 nd equity infrastructure will be discussed and many other themes.
 For em
 ail enquiries: info@dialoguecapital.com&nbsp\;
LOCATION:Opernpl. 16\, 60313 Frankfurt am Main\, Germany
DTSTART:20220913T230000Z
DTEND:20220914T230000Z
DTSTAMP:20260423T084101Z
ORGANIZER;CN=Dialogue Capital:MAILTO:finance@dialoguecapital.com
GEO:0;8.675875
X-APPLE-STRUCTURED-LOCATION;VALUE=URI;X-ADDRESS=Opernpl. 16\, 60313 Frankfu
 rt am Main\, Germany;X-APPLE-RADIUS=72;X-TITLE=Sofitel Opera\, Frankfurt:0
 ;8.675875
END:VEVENT
END:VCALENDAR