BEGIN:VCALENDAR
VERSION:2.0
PRODID:Events Booking
BEGIN:VEVENT
UID:69ea217cdf767
SUMMARY:Global Infrastructure Dialogue 2019
DESCRIPTION:The Global Infrastructure Dialogue 2019 will take place on the 
 26th and 27th of June in Frankfurt and brings together more industry leade
 rs than ever.International decision makers in infrastructure have the oppo
 rtunity to get together in a series of interactive sessions and 1:1 meetin
 gs in the exclusive Dialogue-Club.
LOCATION:Kennedyallee 70\, 60596 Frankfurt am Main\, Germany
DTSTART:20190625T230000Z
DTEND:20190626T230000Z
DTSTAMP:20260423T084116Z
ORGANIZER;CN=Dialogue Capital:MAILTO:finance@dialoguecapital.com
GEO:50.09723;8.66955
X-APPLE-STRUCTURED-LOCATION;VALUE=URI;X-ADDRESS=Kennedyallee 70\, 60596 Fra
 nkfurt am Main\, Germany;X-APPLE-RADIUS=72;X-TITLE=Villa Kennedy\, Rocco F
 orte Hotel:50.09723;8.66955
END:VEVENT
END:VCALENDAR