BEGIN:VCALENDAR
VERSION:2.0
PRODID:Events Booking
BEGIN:VEVENT
UID:69ea370ad2c6a
SUMMARY:International Infrastructure Dialogue 2016
DESCRIPTION:Due to the high demand\, the international&nbsp\;Infrastructure
  Dialogue 2016 in Frankfurt&nbsp\;will take place on two days\, the&nbsp\;
 22nd – 23rd June 2016\,&nbsp\;bringing together more industry leaders th
 an ever. International senior decision makers in infrastructure have the o
 pportunity to get together in a series of 1:1 meetings in our exclusive Di
 alogue-Club.&nbsp\;  Senior industry experts\, including investors\, lende
 rs\, developers\, owners and policy makers will be discussing the latest t
 rends in infrastructure globally and in Germany.&nbsp\;  Among the topics 
 covered will be themes such as the best investment opportunities overseas 
 and locally\, new strategies in debt capital markets as well as energy pro
 jects and&nbsp\; opening up for more investments.&nbsp\;  In spite of risi
 ng prices and tough competition the amount of capital raised for infrastru
 cture investments has increased significantly in the last three years. Som
 e investors are willing to accept a higher risk profile for higher returns
 \, benefiting new frontier markets.&nbsp\;
LOCATION:Kennedyallee 70\, 60596 Frankfurt am Main\, Germany
DTSTART:20160621T230000Z
DTEND:20160622T230000Z
DTSTAMP:20260423T101314Z
ORGANIZER;CN=Dialogue Capital:MAILTO:finance@dialoguecapital.com
GEO:50.09723;8.66955
X-APPLE-STRUCTURED-LOCATION;VALUE=URI;X-ADDRESS=Kennedyallee 70\, 60596 Fra
 nkfurt am Main\, Germany;X-APPLE-RADIUS=72;X-TITLE=Villa Kennedy\, Rocco F
 orte Hotel:50.09723;8.66955
END:VEVENT
END:VCALENDAR