BEGIN:VCALENDAR
VERSION:2.0
PRODID:Events Booking
BEGIN:VEVENT
UID:69ea21f883bb3
SUMMARY:The Americas Infrastructure Dialogue - #AmericasID2024
DESCRIPTION:The Americas Infrastructure&nbsp\;Dialogue 2024 (NYC)&nbsp\;wil
 l take place on the 25th and 26th of January as an in-person event bringin
 g together the decision makers\, LPs and GPs\, in infrastructure &amp\; en
 ergy in the region.&nbsp\;
 For more information about the event click on
  the title at the top to view more details.
 
 &nbsp\;
 Global- and loc
 al leaders in infrastructure have the opportunity to get together in a ser
 ies of interactive sessions and 1:1 meetings in the exclusive Dialogue-Clu
 b.&nbsp\;Global leaders\, including investors\, lenders\, developers\, own
 ers and policy makers will be discussing the latest trends in infrastructu
 re in the US\, Canada\, Latin America and abroad.&nbsp\;
 
LOCATION:1335 6th Ave\, NYC 
DTSTART:20240125T123000Z
DTEND:20240126T173000Z
DTSTAMP:20260423T084320Z
ORGANIZER;CN=Dialogue Capital:MAILTO:finance@dialoguecapital.com
GEO:0;-73.981379
X-APPLE-STRUCTURED-LOCATION;VALUE=URI;X-ADDRESS=1335 6th Ave\, NYC ;X-APPLE
 -RADIUS=72;X-TITLE=Hilton Honors | New York Hilton Midtown\, :0;-73.981379
END:VEVENT
END:VCALENDAR