BEGIN:VCALENDAR
VERSION:2.0
PRODID:Events Booking
BEGIN:VEVENT
UID:69ea36b0ac997
SUMMARY:International Dialogue Berlin 2015
DESCRIPTION:Infrastructure Dialogue Berlin 2015 will bring together senior 
 decision makers in infrastructure to a series of 1:1 meetings in our exclu
 sive Dialogue-Club &nbsp\;as well as short industry summaries\, small sess
 ions and roundtables. &nbsp\;Senior industry experts will be discussing th
 e latest trends in infrastructure in Germany and abroad\, including where 
 best to invest locally and globally\, new opportunities for investors in d
 ebt capital markets as well as challenges of developing infrastructure-pro
 jects in emerging markets. That also includes identifying regions where th
 e need to replace aging infrastructure provides attractive opportunities.&
 nbsp\; Infrastructure as an asset class has attracted increasing investor 
 appetite. In a challenging fundraising environment\, global investors view
  infrastructure still as being core to their strategy. Where are we going 
 to find unprecedented opportunties and how? This and many other topics wil
 l be discussed in Berlin.
LOCATION:Friedrichstraße 151\, 10117 Berlin\, Germany
DTSTART:20150621T230000Z
DTEND:20150622T230000Z
DTSTAMP:20260423T101144Z
ORGANIZER;CN=Dialogue Capital:MAILTO:finance@dialoguecapital.com
GEO:52.518325;13.388244
X-APPLE-STRUCTURED-LOCATION;VALUE=URI;X-ADDRESS=Friedrichstraße 151\, 1011
 7 Berlin\, Germany;X-APPLE-RADIUS=72;X-TITLE=Maritim proArte Hotel Berlin:
 52.518325;13.388244
END:VEVENT
END:VCALENDAR