BEGIN:VCALENDAR
VERSION:2.0
PRODID:Events Booking
BEGIN:VEVENT
UID:69ea368e9f8cc
SUMMARY:International Infrastructure Dialogue 2017
DESCRIPTION:Due to the high demand\, the 3rd international&nbsp\;Infrastruc
 ture Dialogue 2017 in Frankfurt&nbsp\;will take place again on two days\, 
 the 28th - 29th June\,&nbsp\;bringing together more industry leaders than 
 ever.&nbsp\;International senior decision makers in infrastructure have th
 e opportunity to get together in a series of interactive sessions and 1:1 
 meetings in our exclusive Dialogue-Club.
 Senior industry experts\, inclu
 ding investors\, lenders\, developers\, owners and policy makers will be d
 iscussing the latest trends in infrastructure globally in Europe as well a
 s in Germany.&nbsp\;Among the topics covered will be themes such as the be
 st investment opportunities\, new strategies in debt capital markets as we
 ll as energy projects\, communication technology as well as new tools for 
 financing infrastructure.
LOCATION:Kennedyallee 70\, 60596 Frankfurt am Main\, Germany
DTSTART:20170627T230000Z
DTEND:20170628T230000Z
DTSTAMP:20260423T101110Z
ORGANIZER;CN=Dialogue Capital:MAILTO:finance@dialoguecapital.com
GEO:50.09723;8.66955
X-APPLE-STRUCTURED-LOCATION;VALUE=URI;X-ADDRESS=Kennedyallee 70\, 60596 Fra
 nkfurt am Main\, Germany;X-APPLE-RADIUS=72;X-TITLE=Villa Kennedy\, Rocco F
 orte Hotel:50.09723;8.66955
END:VEVENT
END:VCALENDAR