BEGIN:VCALENDAR
VERSION:2.0
PRODID:Events Booking
BEGIN:VEVENT
UID:69ea3719870f6
SUMMARY:North American Infrastructure Dialogue 2018
DESCRIPTION:The North American Infrastructure Dialogue 2018 in New York Cit
 y&nbsp\;will take place on the 25th of January\,&nbsp\;bringing together t
 he decision makers in infrastructure in the region.
 International leader
 s in infrastructure have the opportunity to get together in a series of in
 teractive sessions and 1:1 meetings in our exclusive Dialogue-Club.
 Seni
 or industry experts\, including investors\, lenders\, developers\, owners 
 and policy makers will be discussing the latest trends in infrastructure i
 n the US\, Canada\, Latin America and abroad.
LOCATION:130 West\, 46th St\, NY 10036\, USA
DTSTART:20180125T090000Z
DTEND:20180125T160000Z
DTSTAMP:20260423T101329Z
ORGANIZER;CN=Dialogue Capital:MAILTO:finance@dialoguecapital.com
GEO:40.75776;-73.984307
X-APPLE-STRUCTURED-LOCATION;VALUE=URI;X-ADDRESS=130 West\, 46th St\, NY 100
 36\, USA;X-APPLE-RADIUS=72;X-TITLE=Muse Hotel:40.75776;-73.984307
END:VEVENT
END:VCALENDAR