BEGIN:VCALENDAR
VERSION:2.0
PRODID:Events Booking
BEGIN:VEVENT
UID:69ea3708aa784
SUMMARY:The Americas Infrastructure Dialogue - #AmericasID2020 
DESCRIPTION:The Americas Infrastructure&nbsp\;Dialogue 2020&nbsp\;will take
  place on the 6th of February in New York City\, bringing together the dec
 ision makers in infrastructure in the region.&nbsp\;  International leader
 s in infrastructure have the opportunity to get together in a series of in
 teractive sessions and 1:1 meetings in our exclusive Dialogue-Club.&nbsp\;
   Senior industry experts\, including investors\, lenders\, developers\, o
 wners and policy makers will be discussing the latest trends in infrastruc
 ture in the US\, Canada\, Latin America and abroad.
LOCATION:125 E 50th St\, New York\, NY 10022\, USA
DTSTART:20200206T090000Z
DTEND:20200206T000000Z
DTSTAMP:20260423T101312Z
ORGANIZER;CN=Dialogue Capital:MAILTO:finance@dialoguecapital.com
GEO:40.756612;-73.971905
X-APPLE-STRUCTURED-LOCATION;VALUE=URI;X-ADDRESS=125 E 50th St\, New York\, 
 NY 10022\, USA;X-APPLE-RADIUS=72;X-TITLE=The Benjamin Hotel:40.756612;-73.
 971905
END:VEVENT
END:VCALENDAR