BEGIN:VCALENDAR
VERSION:2.0
PRODID:Events Booking
BEGIN:VEVENT
UID:69ea220d90373
SUMMARY:The Americas Infrastructure Dialogue - #AmericasID2022
DESCRIPTION:The Americas Infrastructure&nbsp\;Dialogue 2022 (NYC)&nbsp\;wil
 l take place on 24th May 2022 as an in-person event bringing together the 
 decision makers in infrastructure in the region. An exciting new opportuni
 ty to get even better connected!&nbsp\;
 &nbsp\;
 Global leaders in infr
 astructure have the opportunity to get together in a series of interactive
  sessions and 1:1 meetings in the exclusive Dialogue-Club.&nbsp\;Senior in
 dustry experts\, including investors\, lenders\, developers\, owners and p
 olicy makers will be discussing the latest trends in infrastructure in the
  US\, Canada\, Latin America and abroad as well as the impact of COVID-19 
 on the asset class.&nbsp\;
 &nbsp\;
 &nbsp\;
 &nbsp\;
 &nbsp\;
 &nbsp
 \;
 &nbsp\;
 Will Devenney\, Head of Infrastructure Debt\, Europe\, Lega
 l &amp\; General Investment Management\, London:&nbsp\;
 “I really enjo
 yed the event - the content and debates were very interesting\, and it is 
 really well coordinated. [...] The format works very well - encouraging so
  many people to engage and lots of constructive debate. The proportion of 
 people actively engaging in the sessions is really high.”
 &nbsp\;
 He
 nry Cisneros\, Chairman\, American Triple I Partners:&nbsp\;
 “The Even
 t 'Americas Infrastructure Dialogue' was the best of its kind I have atten
 ded.&nbsp\; I especially liked the arrangement of the rooms for maximum di
 alogue and the working session ambiance. The collegial size of participati
 on in each room and the stature of the participants made for informed disc
 ussion and productive exchanges. [...] Thank you for inviting me and for m
 aking it possible for me to participate. [...] I believe we are entering a
  Golden Era of infrastructure investing as nations seek to modernize and e
 xpand critical infrastructure. You are contributing to that process in a s
 ignificant way.”
LOCATION:35 W 44th St\, New York\, NY 10036\, United States
DTSTART:20220524T090000Z
DTEND:20220524T173000Z
DTSTAMP:20260423T084341Z
ORGANIZER;CN=Dialogue Capital:MAILTO:finance@dialoguecapital.com
GEO:0;-73.983652
X-APPLE-STRUCTURED-LOCATION;VALUE=URI;X-ADDRESS=35 W 44th St\, New York\, N
 Y 10036\, United States;X-APPLE-RADIUS=72;X-TITLE=Harvard Club of New York
  City:0;-73.983652
END:VEVENT
END:VCALENDAR